BEGIN:VCALENDAR
VERSION:2.0
PRODID:-//Paul Keens-Douglas - ECPv4.6.15//NONSGML v1.0//EN
CALSCALE:GREGORIAN
METHOD:PUBLISH
X-WR-CALNAME:Paul Keens-Douglas
X-ORIGINAL-URL:http://pkeensdouglas.com
X-WR-CALDESC:Events for Paul Keens-Douglas
BEGIN:VEVENT
DTSTART;TZID=UTC+0:20170812T080000
DTEND;TZID=UTC+0:20170812T170000
DTSTAMP:20260424T161816
CREATED:20170812T175252Z
LAST-MODIFIED:20170812T175252Z
UID:5979-1502524800-1502557200@pkeensdouglas.com
SUMMARY:Concert
DESCRIPTION:Vestibulum purus metus\, dignissim vel elementum a\, faucibus volutpat urna. Integer eu libero et mi sodales ultrices. Integer at lorem suscipit\, tempor urna sit amet\, scelerisque urna. Nullam tellus dolor\, pharetra vel ipsum id\, dignissim ultrices purus. \n\n\n    \n
URL:http://pkeensdouglas.com/event/concert/
LOCATION:St. Anns\, Port of Spain\, Trinidad And Tobago
ORGANIZER;CN="Paul%20Keens-Douglas":MAILTO:paul@pkeensdouglas.com
END:VEVENT
END:VCALENDAR